BEGIN:VCALENDAR
VERSION:2.0
PRODID:-//NCA Denver Celiacs - ECPv6.15.20//NONSGML v1.0//EN
CALSCALE:GREGORIAN
METHOD:PUBLISH
X-WR-CALNAME:NCA Denver Celiacs
X-ORIGINAL-URL:https://denverceliacs.org
X-WR-CALDESC:Events for NCA Denver Celiacs
REFRESH-INTERVAL;VALUE=DURATION:PT1H
X-Robots-Tag:noindex
X-PUBLISHED-TTL:PT1H
BEGIN:VTIMEZONE
TZID:America/Denver
BEGIN:DAYLIGHT
TZOFFSETFROM:-0700
TZOFFSETTO:-0600
TZNAME:MDT
DTSTART:20250309T090000
END:DAYLIGHT
BEGIN:STANDARD
TZOFFSETFROM:-0600
TZOFFSETTO:-0700
TZNAME:MST
DTSTART:20251102T080000
END:STANDARD
BEGIN:DAYLIGHT
TZOFFSETFROM:-0700
TZOFFSETTO:-0600
TZNAME:MDT
DTSTART:20260308T090000
END:DAYLIGHT
BEGIN:STANDARD
TZOFFSETFROM:-0600
TZOFFSETTO:-0700
TZNAME:MST
DTSTART:20261101T080000
END:STANDARD
BEGIN:DAYLIGHT
TZOFFSETFROM:-0700
TZOFFSETTO:-0600
TZNAME:MDT
DTSTART:20270314T090000
END:DAYLIGHT
BEGIN:STANDARD
TZOFFSETFROM:-0600
TZOFFSETTO:-0700
TZNAME:MST
DTSTART:20271107T080000
END:STANDARD
END:VTIMEZONE
BEGIN:VEVENT
DTSTART;TZID=America/Denver:20260308T120000
DTEND;TZID=America/Denver:20260308T140000
DTSTAMP:20260422T194304
CREATED:20260301T023406Z
LAST-MODIFIED:20260301T023507Z
UID:6127-1772971200-1772978400@denverceliacs.org
SUMMARY:Luck of the Celiac Bingo @ Holidaily Brewing Company
DESCRIPTION:Event Specifics: \n\n\n\n30 people capacity \n\n\n\nAdvanced registration required with the following link: Luck of the Celiac Bingo | NCA Denver Celiac Support Group \n\n\n\nTickets are $5/entry & 5 bingo cards. $2/each additional bingo card. \n\n\n\nWe will have gluten free prizes for the winners from Crestone Bakery. \n\n\n\nAt least 5 rounds of Bingo \n\n\n\nHolidaily will have St. Patrick’s Day Bag Pipe Band Performance from 1-3pm as well in their main area.
URL:https://denverceliacs.org/event/luck-of-the-celiac-bingo-holidaily-brewing-company/
LOCATION:Holidaily Brewing Company-Golden\, 801 Brickyard Cir\, Golden\, CO\, 80403
ATTACH;FMTTYPE=application/pdf:https://denverceliacs.org/wp-content/uploads/Bingo-Flyer.pdf
END:VEVENT
BEGIN:VEVENT
DTSTART;TZID=America/Denver:20260314T100000
DTEND;TZID=America/Denver:20260314T130000
DTSTAMP:20260422T194304
CREATED:20260113T231735Z
LAST-MODIFIED:20260113T231737Z
UID:6089-1773482400-1773493200@denverceliacs.org
SUMMARY:Gluten Free Takeover @ Stanley Marketplace
DESCRIPTION:Join us indoors on 2nd Saturdays\, January through April\, for Denver Celiacs 3rd year hosting our Gluten Free Takeover. Expect some of your favorite vendors you love\, new brands to discover\, gluten free samples\, gluten free themed flash tattoos\, and a whole market full of gluten-free goodies!\
URL:https://denverceliacs.org/event/gluten-free-takeover-stanley-marketplace-6/
LOCATION:Stanley Marketplace\, 2501 Dallas St\, Aurora\, Colorado\, 80010\, United States
ATTACH;FMTTYPE=image/webp:https://denverceliacs.org/wp-content/uploads/2026VendorMarketing-Gluten-FreeTakeover.webp
END:VEVENT
END:VCALENDAR