BEGIN:VCALENDAR
VERSION:2.0
PRODID:-//NCA Denver Celiacs - ECPv6.15.20//NONSGML v1.0//EN
CALSCALE:GREGORIAN
METHOD:PUBLISH
X-ORIGINAL-URL:https://denverceliacs.org
X-WR-CALDESC:Events for NCA Denver Celiacs
REFRESH-INTERVAL;VALUE=DURATION:PT1H
X-Robots-Tag:noindex
X-PUBLISHED-TTL:PT1H
BEGIN:VTIMEZONE
TZID:America/Denver
BEGIN:DAYLIGHT
TZOFFSETFROM:-0700
TZOFFSETTO:-0600
TZNAME:MDT
DTSTART:20240310T090000
END:DAYLIGHT
BEGIN:STANDARD
TZOFFSETFROM:-0600
TZOFFSETTO:-0700
TZNAME:MST
DTSTART:20241103T080000
END:STANDARD
BEGIN:DAYLIGHT
TZOFFSETFROM:-0700
TZOFFSETTO:-0600
TZNAME:MDT
DTSTART:20250309T090000
END:DAYLIGHT
BEGIN:STANDARD
TZOFFSETFROM:-0600
TZOFFSETTO:-0700
TZNAME:MST
DTSTART:20251102T080000
END:STANDARD
BEGIN:DAYLIGHT
TZOFFSETFROM:-0700
TZOFFSETTO:-0600
TZNAME:MDT
DTSTART:20260308T090000
END:DAYLIGHT
BEGIN:STANDARD
TZOFFSETFROM:-0600
TZOFFSETTO:-0700
TZNAME:MST
DTSTART:20261101T080000
END:STANDARD
END:VTIMEZONE
BEGIN:VEVENT
DTSTART;TZID=America/Denver:20250510T090000
DTEND;TZID=America/Denver:20250510T120000
DTSTAMP:20260423T021434
CREATED:20241230T232346Z
LAST-MODIFIED:20250326T230514Z
UID:5815-1746867600-1746878400@denverceliacs.org
SUMMARY:Gluten Free Gallop 5k
DESCRIPTION:We are so thrilled to announce the return of our 12th annual Gluten Free Gallop 5K! \n\n\n\nJoin Denver Celiacs to raise awareness of Celiac Disease and gluten-related disorders. Our 12th Annual Gluten Free Gallop 5K will take place at Clement Park in Littleton\, CO on Saturday\, May 10th\, 2025 from 9:00 AM-12:00 PM. This year we will also be offering our very popular ROCK Fun Run again! This is a fun\, family\, stroller\, and dog friendly event. We will have gluten free food\, vendors\, drinks\, freebies\, samples and so much more! \n\n\n\nThe 5k will be two laps around Johnson Reservoir at the Robert Clement Park in Littleton\, CO. The race will begin at 9 AM near shelters J\, K\, and L under the Gluten Free Gallup banner. Race registration will also be near shelters J\, K\, and L\, and will open at 8:30 AM. The course offers scenic foothills views! \n\n\n\nSign up here! \n\n\n\nClick here for Sponsorship Payments
URL:https://denverceliacs.org/event/save-the-date-gluten-free-gallop-5k/
LOCATION:Clement Park\, 7306 W Bowles Ave\, Littleton\, Colorado\, 80123
ATTACH;FMTTYPE=image/jpeg:https://denverceliacs.org/wp-content/uploads/GFG_Logo-600x450-2.jpg
END:VEVENT
END:VCALENDAR