BEGIN:VCALENDAR
VERSION:2.0
PRODID:-//NCA Denver Celiacs - ECPv6.15.20//NONSGML v1.0//EN
CALSCALE:GREGORIAN
METHOD:PUBLISH
X-ORIGINAL-URL:https://denverceliacs.org
X-WR-CALDESC:Events for NCA Denver Celiacs
REFRESH-INTERVAL;VALUE=DURATION:PT1H
X-Robots-Tag:noindex
X-PUBLISHED-TTL:PT1H
BEGIN:VTIMEZONE
TZID:America/Denver
BEGIN:DAYLIGHT
TZOFFSETFROM:-0700
TZOFFSETTO:-0600
TZNAME:MDT
DTSTART:20240310T090000
END:DAYLIGHT
BEGIN:STANDARD
TZOFFSETFROM:-0600
TZOFFSETTO:-0700
TZNAME:MST
DTSTART:20241103T080000
END:STANDARD
BEGIN:DAYLIGHT
TZOFFSETFROM:-0700
TZOFFSETTO:-0600
TZNAME:MDT
DTSTART:20250309T090000
END:DAYLIGHT
BEGIN:STANDARD
TZOFFSETFROM:-0600
TZOFFSETTO:-0700
TZNAME:MST
DTSTART:20251102T080000
END:STANDARD
BEGIN:DAYLIGHT
TZOFFSETFROM:-0700
TZOFFSETTO:-0600
TZNAME:MDT
DTSTART:20260308T090000
END:DAYLIGHT
BEGIN:STANDARD
TZOFFSETFROM:-0600
TZOFFSETTO:-0700
TZNAME:MST
DTSTART:20261101T080000
END:STANDARD
END:VTIMEZONE
BEGIN:VEVENT
DTSTART;TZID=America/Denver:20250308T100000
DTEND;TZID=America/Denver:20250308T130000
DTSTAMP:20260422T232005
CREATED:20241208T194935Z
LAST-MODIFIED:20241208T194936Z
UID:5800-1741428000-1741438800@denverceliacs.org
SUMMARY:Gluten Free Takeover @ Stanley Marketplace
DESCRIPTION:Introducing Denver Celiacs “Gluten Free Takeover” at Stanley Marketplace! Join us the second Saturday of each month from January-April 2025 from 10 AM until 1 PM. The best part\, grab a drink from Logan House Coffee or from Stanley Beer Hall and shop up to 50 gluten free pop up vendors set up throughout Stanley Marketplace! \n\n\n\nSo what are you waiting for?! Mark your calendars for 1/11\, 2/8\, 3/8\, and 4/12 and join us for a “Gluten Free Takeover” you won’t regret! Vendor list and more information coming soon! \n\n\n\nFollow us on Facebook or Instagram to stay in the know for information on vendors\, freebies\, and more!
URL:https://denverceliacs.org/event/gluten-free-takeover-stanley-marketplace-3/
LOCATION:Stanley Marketplace\, 2501 Dallas St\, Aurora\, Colorado\, 80010\, United States
ATTACH;FMTTYPE=image/png:https://denverceliacs.org/wp-content/uploads/1.png
END:VEVENT
BEGIN:VEVENT
DTSTART;TZID=America/Denver:20250314T180000
DTEND;TZID=America/Denver:20250314T220000
DTSTAMP:20260422T232005
CREATED:20250103T160657Z
LAST-MODIFIED:20250214T192040Z
UID:5847-1741975200-1741989600@denverceliacs.org
SUMMARY:Gluten Free Bash
DESCRIPTION:Join the Denver Celiacs for the first in Denver Gluten Free Bash! This 1920s themed event will take place at a speakeasy in Downtown Denver with the location revealed only after you purchase a ticket. Each ticket includes exclusive access to the event\, two drink tickets\, and heavy gluten free hors d’oeuvres. This event is 21+ only and not handicap accessible (there are only stairs to enter the event space). Come dressed to impress and ready for a great time with your gluten free friends! \n\n\n\nDenver Celiac members get $10 off one GF Bash ticket! A coupon code is available in your email from membership@denverceliacs.org. \n\n\n\nPurchase your tickets here: Gluten Free Bash | NCA Denver Celiac Support Group
URL:https://denverceliacs.org/event/gluten-free-bash-gala/
ATTACH;FMTTYPE=image/png:https://denverceliacs.org/wp-content/uploads/Gluten-Free-Bash-2024.png
END:VEVENT
END:VCALENDAR