BEGIN:VCALENDAR
VERSION:2.0
PRODID:-//NCA Denver Celiacs - ECPv6.15.20//NONSGML v1.0//EN
CALSCALE:GREGORIAN
METHOD:PUBLISH
X-ORIGINAL-URL:https://denverceliacs.org
X-WR-CALDESC:Events for NCA Denver Celiacs
REFRESH-INTERVAL;VALUE=DURATION:PT1H
X-Robots-Tag:noindex
X-PUBLISHED-TTL:PT1H
BEGIN:VTIMEZONE
TZID:America/Denver
BEGIN:DAYLIGHT
TZOFFSETFROM:-0700
TZOFFSETTO:-0600
TZNAME:MDT
DTSTART:20240310T090000
END:DAYLIGHT
BEGIN:STANDARD
TZOFFSETFROM:-0600
TZOFFSETTO:-0700
TZNAME:MST
DTSTART:20241103T080000
END:STANDARD
BEGIN:DAYLIGHT
TZOFFSETFROM:-0700
TZOFFSETTO:-0600
TZNAME:MDT
DTSTART:20250309T090000
END:DAYLIGHT
BEGIN:STANDARD
TZOFFSETFROM:-0600
TZOFFSETTO:-0700
TZNAME:MST
DTSTART:20251102T080000
END:STANDARD
BEGIN:DAYLIGHT
TZOFFSETFROM:-0700
TZOFFSETTO:-0600
TZNAME:MDT
DTSTART:20260308T090000
END:DAYLIGHT
BEGIN:STANDARD
TZOFFSETFROM:-0600
TZOFFSETTO:-0700
TZNAME:MST
DTSTART:20261101T080000
END:STANDARD
END:VTIMEZONE
BEGIN:VEVENT
DTSTART;TZID=America/Denver:20250711T120000
DTEND;TZID=America/Denver:20250713T090000
DTSTAMP:20260425T062614
CREATED:20250109T015209Z
LAST-MODIFIED:20250109T015211Z
UID:5857-1752235200-1752397200@denverceliacs.org
SUMMARY:ROCK Event- Camping Trip
DESCRIPTION:Join us at our ROCK camping trip! More details to come as we get closer to the event date.
URL:https://denverceliacs.org/event/rock-event-camping-trip/
LOCATION:Pickle Gulch\, Missouri Gulch Rd\, Black Hawk\, CO 80422\, Colorado\, 80422\, United States
ATTACH;FMTTYPE=image/png:https://denverceliacs.org/wp-content/uploads/ROCK-Denver-Logo-2024.png
END:VEVENT
BEGIN:VEVENT
DTSTART;TZID=America/Denver:20250712T090000
DTEND;TZID=America/Denver:20250712T130000
DTSTAMP:20260425T062614
CREATED:20250329T180821Z
LAST-MODIFIED:20250617T001451Z
UID:5951-1752310800-1752325200@denverceliacs.org
SUMMARY:GF Farmer's Market
DESCRIPTION:Save the date for the second annual round of our Gluten-Free Farmer’s Markets! The Farmer’s Markets will include products from food trucks\, small businesses\, produce\, crafts\, art\, beauty products\, herbs\, house plants\, canned goods\, dog treats\, prepared foods\, and more!
URL:https://denverceliacs.org/event/ga-farmers-market/
LOCATION:333 W Hampden Ave\, Englewood\, CO 80110 Englewood\, Colorado 80110\, 333 W Hampden Ave\, Englewood\, Colorado\, 80110\, United States
CATEGORIES:NCA Denver Event
END:VEVENT
END:VCALENDAR